BEGIN:VCALENDAR
VERSION:2.0
PRODID:-//Sophicity/Tribune/Austell, GA
BEGIN:VEVENT
DTSTAMP:20260425T170043Z
UID:a1733420-de66-4c35-a6bc-729777b7b117-6301
DTSTART:20250407T230000Z
DTEND:20250408T000000Z
CLASS:PUBLIC
SUMMARY:Council Meeting
END:VEVENT
END:VCALENDAR
