BEGIN:VCALENDAR
VERSION:2.0
PRODID:-//Sophicity/Tribune/Austell, GA
BEGIN:VEVENT
DTSTAMP:20260425T170153Z
UID:a1733420-de66-4c35-a6bc-729777b7b117-6290
DTSTART:20250428T220000Z
DTEND:20250428T230000Z
CLASS:PUBLIC
SUMMARY:Pre-Agenda Meeting
END:VEVENT
END:VCALENDAR
