BEGIN:VCALENDAR
VERSION:2.0
PRODID:-//Sophicity/Tribune/Austell, GA
BEGIN:VEVENT
DTSTAMP:20260425T200844Z
UID:a1733420-de66-4c35-a6bc-729777b7b117-6277
DTSTART:20250219T193000Z
DTEND:20250219T200000Z
CLASS:PUBLIC
SUMMARY:Committee Meetings
END:VEVENT
END:VCALENDAR
