BEGIN:VCALENDAR
VERSION:2.0
PRODID:-//Sophicity/Tribune/Austell, GA
BEGIN:VEVENT
DTSTAMP:20260426T005455Z
UID:a1733420-de66-4c35-a6bc-729777b7b117-6271
DTSTART:20240821T183000Z
DTEND:20240821T190000Z
CLASS:PUBLIC
SUMMARY:Committee Meetings
END:VEVENT
END:VCALENDAR
