BEGIN:VCALENDAR
VERSION:2.0
PRODID:-//Sophicity/Tribune/Austell, GA
BEGIN:VEVENT
DTSTAMP:20260425T201439Z
UID:a1733420-de66-4c35-a6bc-729777b7b117-6268
DTSTART:20240515T183000Z
DTEND:20240515T190000Z
CLASS:PUBLIC
SUMMARY:Committee Meetings
END:VEVENT
END:VCALENDAR
