BEGIN:VCALENDAR
VERSION:2.0
PRODID:-//Sophicity/Tribune/Austell, GA
BEGIN:VEVENT
DTSTAMP:20260425T213753Z
UID:a1733420-de66-4c35-a6bc-729777b7b117-6265
DTSTART:20240221T193000Z
DTEND:20240221T200000Z
CLASS:PUBLIC
SUMMARY:Committee Meetings
END:VEVENT
END:VCALENDAR
