BEGIN:VCALENDAR
VERSION:2.0
PRODID:-//Sophicity/Tribune/Austell, GA
BEGIN:VEVENT
DTSTAMP:20260425T231015Z
UID:a1733420-de66-4c35-a6bc-729777b7b117-6264
DTSTART:20240117T193000Z
DTEND:20240117T200000Z
CLASS:PUBLIC
SUMMARY:Committee Meetings
END:VEVENT
END:VCALENDAR
