BEGIN:VCALENDAR
VERSION:2.0
PRODID:-//Sophicity/Tribune/Austell, GA
BEGIN:VEVENT
DTSTAMP:20260426T021905Z
UID:a1733420-de66-4c35-a6bc-729777b7b117-6262
DTSTART:20231115T193000Z
DTEND:20231115T200000Z
CLASS:PUBLIC
SUMMARY:Committee Meetings
END:VEVENT
END:VCALENDAR
