BEGIN:VCALENDAR
VERSION:2.0
PRODID:-//Sophicity/Tribune/Austell, GA
BEGIN:VEVENT
DTSTAMP:20260426T035426Z
UID:a1733420-de66-4c35-a6bc-729777b7b117-6261
DTSTART:20231018T183000Z
DTEND:20231018T190000Z
CLASS:PUBLIC
SUMMARY:Committee Meetings
END:VEVENT
END:VCALENDAR
