BEGIN:VCALENDAR
VERSION:2.0
PRODID:-//Sophicity/Tribune/Austell, GA
BEGIN:VEVENT
DTSTAMP:20260425T195726Z
UID:a1733420-de66-4c35-a6bc-729777b7b117-6255
DTSTART:20230419T183000Z
DTEND:20230419T190000Z
CLASS:PUBLIC
SUMMARY:Committee Meetings
END:VEVENT
END:VCALENDAR
