BEGIN:VCALENDAR
VERSION:2.0
PRODID:-//Sophicity/Tribune/Austell, GA
BEGIN:VEVENT
DTSTAMP:20260425T213920Z
UID:a1733420-de66-4c35-a6bc-729777b7b117-6247
DTSTART:20251224T130000Z
DTEND:20251224T220000Z
CLASS:PUBLIC
SUMMARY:Christmas Eve - City Closed
END:VEVENT
END:VCALENDAR
