BEGIN:VCALENDAR
VERSION:2.0
PRODID:-//Sophicity/Tribune/Austell, GA
BEGIN:VEVENT
DTSTAMP:20260425T213810Z
UID:a1733420-de66-4c35-a6bc-729777b7b117-6246
DTSTART:20251223T130000Z
DTEND:20251223T130000Z
CLASS:PUBLIC
SUMMARY:Christmas Party - City Closes at 12:00 PM
END:VEVENT
END:VCALENDAR
