BEGIN:VCALENDAR
VERSION:2.0
PRODID:-//Sophicity/Tribune/Austell, GA
BEGIN:VEVENT
DTSTAMP:20260425T231946Z
UID:a1733420-de66-4c35-a6bc-729777b7b117-6242
DTSTART:20251128T130000Z
DTEND:20251128T220000Z
CLASS:PUBLIC
SUMMARY:City Closed
END:VEVENT
END:VCALENDAR
