BEGIN:VCALENDAR
VERSION:2.0
PRODID:-//Sophicity/Tribune/Austell, GA
BEGIN:VEVENT
DTSTAMP:20260425T231932Z
UID:a1733420-de66-4c35-a6bc-729777b7b117-6240
DTSTART:20251119T130000Z
DTEND:20251119T130000Z
CLASS:PUBLIC
SUMMARY:Court Date Bench Trial
END:VEVENT
END:VCALENDAR
