BEGIN:VCALENDAR
VERSION:2.0
PRODID:-//Sophicity/Tribune/Austell, GA
BEGIN:VEVENT
DTSTAMP:20260425T231837Z
UID:a1733420-de66-4c35-a6bc-729777b7b117-6232
DTSTART:20250901T120000Z
DTEND:20250901T210000Z
CLASS:PUBLIC
SUMMARY:Labor Day - City Closed
END:VEVENT
END:VCALENDAR
