BEGIN:VCALENDAR
VERSION:2.0
PRODID:-//Sophicity/Tribune/Austell, GA
BEGIN:VEVENT
DTSTAMP:20260425T201546Z
UID:a1733420-de66-4c35-a6bc-729777b7b117-6224
DTSTART:20250709T120000Z
DTEND:20250709T120000Z
CLASS:PUBLIC
SUMMARY:Court Date Arraignment
END:VEVENT
END:VCALENDAR
