BEGIN:VCALENDAR
VERSION:2.0
PRODID:-//Sophicity/Tribune/Austell, GA
BEGIN:VEVENT
DTSTAMP:20260425T200928Z
UID:a1733420-de66-4c35-a6bc-729777b7b117-6222
DTSTART:20250618T120000Z
DTEND:20250618T120000Z
CLASS:PUBLIC
SUMMARY:Court Date Bench Trial
END:VEVENT
END:VCALENDAR
