BEGIN:VCALENDAR
VERSION:2.0
PRODID:-//Sophicity/Tribune/Austell, GA
BEGIN:VEVENT
DTSTAMP:20260425T183550Z
UID:a1733420-de66-4c35-a6bc-729777b7b117-6219
DTSTART:20250526T120000Z
DTEND:20250526T210000Z
CLASS:PUBLIC
SUMMARY:Memorial Day - City Closed
END:VEVENT
END:VCALENDAR
