BEGIN:VCALENDAR
VERSION:2.0
PRODID:-//Sophicity/Tribune/Austell, GA
BEGIN:VEVENT
DTSTAMP:20260425T170320Z
UID:a1733420-de66-4c35-a6bc-729777b7b117-6215
DTSTART:20250418T120000Z
DTEND:20250418T210000Z
CLASS:PUBLIC
SUMMARY:Good Friday - City Closed
END:VEVENT
END:VCALENDAR
