BEGIN:VCALENDAR
VERSION:2.0
PRODID:-//Sophicity/Tribune/Austell, GA
BEGIN:VEVENT
DTSTAMP:20260425T183550Z
UID:a1733420-de66-4c35-a6bc-729777b7b117-6211
DTSTART:20250326T120000Z
DTEND:20250326T120000Z
CLASS:PUBLIC
SUMMARY:Court Date Bench Trial
END:VEVENT
END:VCALENDAR
