BEGIN:VCALENDAR
VERSION:2.0
PRODID:-//Sophicity/Tribune/Austell, GA
BEGIN:VEVENT
DTSTAMP:20260425T183054Z
UID:a1733420-de66-4c35-a6bc-729777b7b117-6208
DTSTART:20250226T164400Z
DTEND:20250226T164400Z
CLASS:PUBLIC
SUMMARY:Court Date Bench Trial
END:VEVENT
END:VCALENDAR
