BEGIN:VCALENDAR
VERSION:2.0
PRODID:-//Sophicity/Tribune/Austell, GA
BEGIN:VEVENT
DTSTAMP:20260425T200845Z
UID:a1733420-de66-4c35-a6bc-729777b7b117-6206
DTSTART:20250205T130000Z
DTEND:20250205T130000Z
CLASS:PUBLIC
SUMMARY:Court Date Arraignment
END:VEVENT
END:VCALENDAR
