BEGIN:VCALENDAR
VERSION:2.0
PRODID:-//Sophicity/Tribune/Austell, GA
BEGIN:VEVENT
DTSTAMP:20260425T200652Z
UID:a1733420-de66-4c35-a6bc-729777b7b117-6205
DTSTART:20250127T230000Z
DTEND:20250127T230000Z
CLASS:PUBLIC
SUMMARY:Special Called Meeting
END:VEVENT
END:VCALENDAR
