BEGIN:VCALENDAR
VERSION:2.0
PRODID:-//Sophicity/Tribune/Austell, GA
BEGIN:VEVENT
DTSTAMP:20260425T213810Z
UID:a1733420-de66-4c35-a6bc-729777b7b117-6202
DTSTART:20250120T130000Z
DTEND:20250120T220000Z
CLASS:PUBLIC
SUMMARY:City Closed - Martin Luther King Jr. Holiday
END:VEVENT
END:VCALENDAR
