BEGIN:VCALENDAR
VERSION:2.0
PRODID:-//Sophicity/Tribune/Austell, GA
BEGIN:VEVENT
DTSTAMP:20260425T213754Z
UID:a1733420-de66-4c35-a6bc-729777b7b117-6178
DTSTART:20250114T210000Z
DTEND:20250114T230000Z
CLASS:PUBLIC
SUMMARY:P&Z Meeting
END:VEVENT
END:VCALENDAR
