BEGIN:VCALENDAR
VERSION:2.0
PRODID:-//Sophicity/Tribune/Austell, GA
BEGIN:VEVENT
DTSTAMP:20260425T213920Z
UID:a1733420-de66-4c35-a6bc-729777b7b117-6125
DTSTART:20250107T000000Z
DTEND:20250107T010000Z
CLASS:PUBLIC
SUMMARY:Council Meeting
END:VEVENT
END:VCALENDAR
