BEGIN:VCALENDAR
VERSION:2.0
PRODID:-//Sophicity/Tribune/Austell, GA
BEGIN:VEVENT
DTSTAMP:20260426T005328Z
UID:a1733420-de66-4c35-a6bc-729777b7b117-6076
DTSTART:20240813T220000Z
DTEND:20240813T230000Z
LOCATION:Council Chambers
CLASS:PUBLIC
SUMMARY:Special Called Meeting
END:VEVENT
END:VCALENDAR
