BEGIN:VCALENDAR
VERSION:2.0
PRODID:-//Sophicity/Tribune/Austell, GA
BEGIN:VEVENT
DTSTAMP:20260425T231008Z
UID:a1733420-de66-4c35-a6bc-729777b7b117-6072
DTSTART:20240716T220000Z
DTEND:20240716T230000Z
CLASS:PUBLIC
SUMMARY:Special Called P&Z Meeting 6:00PM
END:VEVENT
END:VCALENDAR
