BEGIN:VCALENDAR
VERSION:2.0
PRODID:-//Sophicity/Tribune/Austell, GA
BEGIN:VEVENT
DTSTAMP:20260425T183105Z
UID:a1733420-de66-4c35-a6bc-729777b7b117-6066
DTSTART:20240424T133000Z
DTEND:20240424T153000Z
LOCATION:Courtroom
CLASS:PUBLIC
SUMMARY:Budget Workshop 9:30AM
END:VEVENT
END:VCALENDAR
