BEGIN:VCALENDAR
VERSION:2.0
PRODID:-//Sophicity/Tribune/Austell, GA
BEGIN:VEVENT
DTSTAMP:20260426T005455Z
UID:a1733420-de66-4c35-a6bc-729777b7b117-6062
DTSTART:20241112T233000Z
DTEND:20241113T003000Z
CLASS:PUBLIC
SUMMARY:Planning & Zoning Meeting 6:30PM
END:VEVENT
END:VCALENDAR
