BEGIN:VCALENDAR
VERSION:2.0
PRODID:-//Sophicity/Tribune/Austell, GA
BEGIN:VEVENT
DTSTAMP:20260426T022914Z
UID:a1733420-de66-4c35-a6bc-729777b7b117-6061
DTSTART:20241008T223000Z
DTEND:20241008T233000Z
CLASS:PUBLIC
SUMMARY:Planning & Zoning Meeting 6:30PM
END:VEVENT
END:VCALENDAR
