BEGIN:VCALENDAR
VERSION:2.0
PRODID:-//Sophicity/Tribune/Austell, GA
BEGIN:VEVENT
DTSTAMP:20260425T231531Z
UID:a1733420-de66-4c35-a6bc-729777b7b117-6058
DTSTART:20240709T223000Z
DTEND:20240709T233000Z
CLASS:PUBLIC
SUMMARY:Planning & Zoning Meeting 6:30PM
END:VEVENT
END:VCALENDAR
