BEGIN:VCALENDAR
VERSION:2.0
PRODID:-//Sophicity/Tribune/Austell, GA
BEGIN:VEVENT
DTSTAMP:20260425T183432Z
UID:a1733420-de66-4c35-a6bc-729777b7b117-6055
DTSTART:20240409T223000Z
DTEND:20240409T233000Z
CLASS:PUBLIC
SUMMARY:Planning & Zoning Meeting 6:30PM
END:VEVENT
END:VCALENDAR
