BEGIN:VCALENDAR
VERSION:2.0
PRODID:-//Sophicity/Tribune/Austell, GA
BEGIN:VEVENT
DTSTAMP:20260426T022949Z
UID:a1733420-de66-4c35-a6bc-729777b7b117-6051
DTSTART:20240910T220000Z
DTEND:20240910T223000Z
CLASS:PUBLIC
SUMMARY:Planning & Zoning Work Session 6PM
END:VEVENT
END:VCALENDAR
