BEGIN:VCALENDAR
VERSION:2.0
PRODID:-//Sophicity/Tribune/Austell, GA
BEGIN:VEVENT
DTSTAMP:20260426T005440Z
UID:a1733420-de66-4c35-a6bc-729777b7b117-6050
DTSTART:20240813T220000Z
DTEND:20240813T223000Z
CLASS:PUBLIC
SUMMARY:Planning & Zoning Work Session 6PM
END:VEVENT
END:VCALENDAR
