BEGIN:VCALENDAR
VERSION:2.0
PRODID:-//Sophicity/Tribune/Austell, GA
BEGIN:VEVENT
DTSTAMP:20260425T231946Z
UID:a1733420-de66-4c35-a6bc-729777b7b117-6042
DTSTART:20241218T200000Z
DTEND:20241218T210000Z
CLASS:PUBLIC
SUMMARY:Committee Meetings (As Necessary)
END:VEVENT
END:VCALENDAR
