BEGIN:VCALENDAR
VERSION:2.0
PRODID:-//Sophicity/Tribune/Austell, GA
BEGIN:VEVENT
DTSTAMP:20260426T022123Z
UID:a1733420-de66-4c35-a6bc-729777b7b117-6040
DTSTART:20241016T190000Z
DTEND:20241016T200000Z
CLASS:PUBLIC
SUMMARY:Committee Meetings (As Necessary)
END:VEVENT
END:VCALENDAR
