BEGIN:VCALENDAR
VERSION:2.0
PRODID:-//Sophicity/Tribune/Austell, GA
BEGIN:VEVENT
DTSTAMP:20260425T231256Z
UID:a1733420-de66-4c35-a6bc-729777b7b117-6037
DTSTART:20240717T190000Z
DTEND:20240717T200000Z
CLASS:PUBLIC
SUMMARY:Committee Meetings (As Necessary)
END:VEVENT
END:VCALENDAR
