BEGIN:VCALENDAR
VERSION:2.0
PRODID:-//Sophicity/Tribune/Austell, GA
BEGIN:VEVENT
DTSTAMP:20260425T213911Z
UID:a1733420-de66-4c35-a6bc-729777b7b117-6023
DTSTART:20241230T230000Z
DTEND:20241231T000000Z
CLASS:PUBLIC
SUMMARY:Pre-Agenda Meeting 6PM
END:VEVENT
END:VCALENDAR
