BEGIN:VCALENDAR
VERSION:2.0
PRODID:-//Sophicity/Tribune/Austell, GA
BEGIN:VEVENT
DTSTAMP:20260425T232025Z
UID:a1733420-de66-4c35-a6bc-729777b7b117-6021
DTSTART:20241224T130000Z
DTEND:20241224T220000Z
CLASS:PUBLIC
SUMMARY:Office Closed - Christmas Holiday
END:VEVENT
END:VCALENDAR
