BEGIN:VCALENDAR
VERSION:2.0
PRODID:-//Sophicity/Tribune/Austell, GA
BEGIN:VEVENT
DTSTAMP:20260425T232025Z
UID:a1733420-de66-4c35-a6bc-729777b7b117-6020
DTSTART:20241223T170000Z
DTEND:20241223T220000Z
CLASS:PUBLIC
SUMMARY:Office Closed
END:VEVENT
END:VCALENDAR
