BEGIN:VCALENDAR
VERSION:2.0
PRODID:-//Sophicity/Tribune/Austell, GA
BEGIN:VEVENT
DTSTAMP:20260425T231130Z
UID:a1733420-de66-4c35-a6bc-729777b7b117-6016
DTSTART:20241211T200000Z
DTEND:20241211T210000Z
CLASS:PUBLIC
SUMMARY:Arraignment 3PM
END:VEVENT
END:VCALENDAR
