BEGIN:VCALENDAR
VERSION:2.0
PRODID:-//Sophicity/Tribune/Austell, GA
BEGIN:VEVENT
DTSTAMP:20260425T231130Z
UID:a1733420-de66-4c35-a6bc-729777b7b117-6013
DTSTART:20241203T000000Z
DTEND:20241203T010000Z
LOCATION:Threadmill Complex Courtroom Suite 175 5000 Austell Powder Springs Rd Austell, GA. 30106
CLASS:PUBLIC
SUMMARY:Council Meeting 7PM
END:VEVENT
END:VCALENDAR
