BEGIN:VCALENDAR
VERSION:2.0
PRODID:-//Sophicity/Tribune/Austell, GA
BEGIN:VEVENT
DTSTAMP:20260426T005405Z
UID:a1733420-de66-4c35-a6bc-729777b7b117-6012
DTSTART:20241129T130000Z
DTEND:20241129T220000Z
CLASS:PUBLIC
SUMMARY:Office Closed - Thanksgiving Holiday
END:VEVENT
END:VCALENDAR
