BEGIN:VCALENDAR
VERSION:2.0
PRODID:-//Sophicity/Tribune/Austell, GA
BEGIN:VEVENT
DTSTAMP:20260426T005517Z
UID:a1733420-de66-4c35-a6bc-729777b7b117-6011
DTSTART:20241128T130000Z
DTEND:20241128T220000Z
CLASS:PUBLIC
SUMMARY:Office Closed - Thanksgiving Day
END:VEVENT
END:VCALENDAR
