BEGIN:VCALENDAR
VERSION:2.0
PRODID:-//Sophicity/Tribune/Austell, GA
BEGIN:VEVENT
DTSTAMP:20260426T005312Z
UID:a1733420-de66-4c35-a6bc-729777b7b117-6010
DTSTART:20241125T230000Z
DTEND:20241126T000000Z
LOCATION:Threadmill Complex Courtroom Suite 175 5000 Austell Powder Springs Rd Austell, GA. 30106
CLASS:PUBLIC
SUMMARY:Pre-Agenda Meeting 6PM
END:VEVENT
END:VCALENDAR
