BEGIN:VCALENDAR
VERSION:2.0
PRODID:-//Sophicity/Tribune/Austell, GA
BEGIN:VEVENT
DTSTAMP:20260426T005313Z
UID:a1733420-de66-4c35-a6bc-729777b7b117-6006
DTSTART:20241113T200000Z
DTEND:20241113T210000Z
CLASS:PUBLIC
SUMMARY:Arraignment 3PM
END:VEVENT
END:VCALENDAR
