BEGIN:VCALENDAR
VERSION:2.0
PRODID:-//Sophicity/Tribune/Austell, GA
BEGIN:VEVENT
DTSTAMP:20260426T005251Z
UID:a1733420-de66-4c35-a6bc-729777b7b117-6002
DTSTART:20241030T190000Z
DTEND:20241030T200000Z
CLASS:PUBLIC
SUMMARY:Bench Trial 3PM
END:VEVENT
END:VCALENDAR
