BEGIN:VCALENDAR
VERSION:2.0
PRODID:-//Sophicity/Tribune/Austell, GA
BEGIN:VEVENT
DTSTAMP:20260426T022913Z
UID:a1733420-de66-4c35-a6bc-729777b7b117-5991
DTSTART:20240911T190000Z
DTEND:20240911T200000Z
CLASS:PUBLIC
SUMMARY:Arraignment 3PM
END:VEVENT
END:VCALENDAR
