BEGIN:VCALENDAR
VERSION:2.0
PRODID:-//Sophicity/Tribune/Austell, GA
BEGIN:VEVENT
DTSTAMP:20260425T213754Z
UID:a1733420-de66-4c35-a6bc-729777b7b117-5969
DTSTART:20240619T120000Z
DTEND:20240619T210000Z
CLASS:PUBLIC
SUMMARY:Office Closed - Juneteenth
END:VEVENT
END:VCALENDAR
